BEGIN:VCALENDAR
VERSION:2.0
PRODID:-//wp-events-plugin.com//5.99912//EN
TZID:Europe/Berlin
X-WR-TIMEZONE:Europe/Berlin
BEGIN:VEVENT
UID:0-258@obertuerkheim-uhlbach.albverein.eu
DTSTART;TZID=Europe/Berlin:20260724T100000
DTEND;TZID=Europe/Berlin:20260724T170000
DTSTAMP:20260301T235830Z
URL:https://obertuerkheim-uhlbach.albverein.eu/events/die-freizeitgruppe-i
 st-unterwegs-3/
SUMMARY:Die Freizeitgruppe ist unterwegs
DESCRIPTION:Ansprechpartner Rolf Kimmerle
END:VEVENT
BEGIN:VTIMEZONE
TZID:Europe/Berlin
X-LIC-LOCATION:Europe/Berlin
BEGIN:DAYLIGHT
DTSTART:20260329T030000
TZOFFSETFROM:+0100
TZOFFSETTO:+0200
TZNAME:CEST
END:DAYLIGHT
END:VTIMEZONE
END:VCALENDAR