BEGIN:VCALENDAR
VERSION:2.0
PRODID:-//wp-events-plugin.com//5.99912//EN
TZID:Europe/Berlin
X-WR-TIMEZONE:Europe/Berlin
BEGIN:VEVENT
UID:0-243@obertuerkheim-uhlbach.albverein.eu
DTSTART;TZID=Europe/Berlin:20260423T084500
DTEND;TZID=Europe/Berlin:20260423T160000
DTSTAMP:20260401T103750Z
URL:https://obertuerkheim-uhlbach.albverein.eu/events/die-freizeitgruppe-i
 st-unterwegs/
SUMMARY:Die Freizeitgruppe fährt nach Ochsenwang/Breitenstein
DESCRIPTION:Die Freizeitgruppe macht einen Ausflug nach Ochsenwang und wand
 ert zur Burg Teck. Natürlich wird auch eine Mittagspause gemacht\, späte
 r gibt es noch eine Kaffeeeinkehr.\n\nTreffpunkt: 8:50 Uhr Bahnhof Obertü
 rkheim\nAbfahrt: 9:07 Uhr ab Obertürkheim mit S1 nach Kirchheim (Zone 6)\
 , nach Umsteigen weiter mit Bus 176 um 9:46 Uhr nach Ochsenwang\, an 10:16
  Uhr\nRückfahrt: wird vor Ort festgelegt\nAnsprechpartner: Rolf Kimmerle\
 , 0711-322845 oder 0172-8750313 oder rolfkimmerle1@gmail.comnsprechpartner
  Rolf Kimmerle
END:VEVENT
BEGIN:VTIMEZONE
TZID:Europe/Berlin
X-LIC-LOCATION:Europe/Berlin
BEGIN:DAYLIGHT
DTSTART:20260329T030000
TZOFFSETFROM:+0100
TZOFFSETTO:+0200
TZNAME:CEST
END:DAYLIGHT
END:VTIMEZONE
END:VCALENDAR