BEGIN:VCALENDAR
VERSION:2.0
PRODID:-//wp-events-plugin.com//5.99912//EN
TZID:Europe/Berlin
X-WR-TIMEZONE:Europe/Berlin
BEGIN:VEVENT
UID:0-277@obertuerkheim-uhlbach.albverein.eu
DTSTART;TZID=Europe/Berlin:20261204T190000
DTEND;TZID=Europe/Berlin:20261204T230000
DTSTAMP:20260305T203923Z
URL:https://obertuerkheim-uhlbach.albverein.eu/events/jahresfeier-mit-jubi
 larehrung-in-der-krone-2/
SUMMARY:Jahresfeier mit Jubilarehrung in der „Krone“
DESCRIPTION:Ansprechpartner Wolf Wölfel
END:VEVENT
BEGIN:VTIMEZONE
TZID:Europe/Berlin
X-LIC-LOCATION:Europe/Berlin
BEGIN:STANDARD
DTSTART:20261025T020000
TZOFFSETFROM:+0200
TZOFFSETTO:+0100
TZNAME:CET
END:STANDARD
END:VTIMEZONE
END:VCALENDAR