BEGIN:VCALENDAR
VERSION:2.0
PRODID:-//wp-events-plugin.com//5.99912//EN
TZID:Europe/Berlin
X-WR-TIMEZONE:Europe/Berlin
BEGIN:VEVENT
UID:0-246@obertuerkheim-uhlbach.albverein.eu
DTSTART;TZID=Europe/Berlin:20260517T090000
DTEND;TZID=Europe/Berlin:20260517T180000
DTSTAMP:20260401T104023Z
URL:https://obertuerkheim-uhlbach.albverein.eu/events/loewenpfad-berta-hoe
 rnle-weg/
SUMMARY:Löwenpfad: Berta-Hörnle Weg
DESCRIPTION:Wenn am 3. Oktober der Tag der Deutschen Einheit gefeiert wird\
 , begeht man in Bad Boll den Berta-Tag. Doch wer war diese Berta von Boll\
 , die im 12. Jh. das Berta-Mahl stiftete? Ob sie wirklich eine Tante Kaise
 r Friedrich Barbarossas war\, ist mittlerweile umstritten. Unstrittig ist 
 aber\, dass die Berta-Hörnle Tour von Bad Boll aus zur ehemaligen Bertabu
 rg und zum Kornberg traumhafte Aussichten ins Vorland der Schwäbischen Al
 b bietet.\n\nAnsprechpartnerin Katrin Fürst
END:VEVENT
BEGIN:VTIMEZONE
TZID:Europe/Berlin
X-LIC-LOCATION:Europe/Berlin
BEGIN:DAYLIGHT
DTSTART:20260329T030000
TZOFFSETFROM:+0100
TZOFFSETTO:+0200
TZNAME:CEST
END:DAYLIGHT
END:VTIMEZONE
END:VCALENDAR