BEGIN:VCALENDAR
VERSION:2.0
PRODID:-//wp-events-plugin.com//5.99912//EN
TZID:Europe/Berlin
X-WR-TIMEZONE:Europe/Berlin
BEGIN:VEVENT
UID:0-260@obertuerkheim-uhlbach.albverein.eu
DTSTART;TZID=Europe/Berlin:20260807T190000
DTEND;TZID=Europe/Berlin:20260807T210000
DTSTAMP:20260305T201927Z
URL:https://obertuerkheim-uhlbach.albverein.eu/events/monatsversammlung-im
 -rathaus-2/
SUMMARY:Monatsversammlung im Rathaus
DESCRIPTION:Ansprechpartner Heide Knödler und Wolf Wölfel
END:VEVENT
BEGIN:VTIMEZONE
TZID:Europe/Berlin
X-LIC-LOCATION:Europe/Berlin
BEGIN:DAYLIGHT
DTSTART:20260329T030000
TZOFFSETFROM:+0100
TZOFFSETTO:+0200
TZNAME:CEST
END:DAYLIGHT
END:VTIMEZONE
END:VCALENDAR