BEGIN:VCALENDAR
VERSION:2.0
PRODID:-//wp-events-plugin.com//5.99912//EN
TZID:Europe/Berlin
X-WR-TIMEZONE:Europe/Berlin
BEGIN:VEVENT
UID:0-273@obertuerkheim-uhlbach.albverein.eu
DTSTART;TZID=Europe/Berlin:20261031T090000
DTEND;TZID=Europe/Berlin:20261101T180000
DTSTAMP:20260305T203443Z
URL:https://obertuerkheim-uhlbach.albverein.eu/events/naturerlebnisse-rund
 -um-die-burg-derneck-3/
SUMMARY:Naturerlebnisse rund um die Burg Derneck
DESCRIPTION:Ansprechpartner Günter Reusch
END:VEVENT
BEGIN:VTIMEZONE
TZID:Europe/Berlin
X-LIC-LOCATION:Europe/Berlin
BEGIN:STANDARD
DTSTART:20261025T020000
TZOFFSETFROM:+0200
TZOFFSETTO:+0100
TZNAME:CET
END:STANDARD
END:VTIMEZONE
END:VCALENDAR