BEGIN:VCALENDAR
VERSION:2.0
PRODID:-//wp-events-plugin.com//5.99912//EN
TZID:Europe/Berlin
X-WR-TIMEZONE:Europe/Berlin
BEGIN:VEVENT
UID:0-266@obertuerkheim-uhlbach.albverein.eu
DTSTART;TZID=Europe/Berlin:20260906T090000
DTEND;TZID=Europe/Berlin:20260906T180000
DTSTAMP:20260305T202644Z
URL:https://obertuerkheim-uhlbach.albverein.eu/events/traufgang-die-ochsen
 bergtour-in-albstadt/
SUMMARY:Traufgang: Die Ochsenbergtour in Albstadt
DESCRIPTION:Ansprechpartner Inge und Franz Marte
END:VEVENT
BEGIN:VTIMEZONE
TZID:Europe/Berlin
X-LIC-LOCATION:Europe/Berlin
BEGIN:DAYLIGHT
DTSTART:20260329T030000
TZOFFSETFROM:+0100
TZOFFSETTO:+0200
TZNAME:CEST
END:DAYLIGHT
END:VTIMEZONE
END:VCALENDAR