BEGIN:VCALENDAR
VERSION:2.0
PRODID:-//wp-events-plugin.com//5.99912//EN
TZID:Europe/Berlin
X-WR-TIMEZONE:Europe/Berlin
BEGIN:VEVENT
UID:0-259@obertuerkheim-uhlbach.albverein.eu
DTSTART;TZID=Europe/Berlin:20260607T090000
DTEND;TZID=Europe/Berlin:20260607T180000
DTSTAMP:20260401T104332Z
URL:https://obertuerkheim-uhlbach.albverein.eu/events/von-ensingen-zum-ese
 lsbergturm-und-schreckstein/
SUMMARY:Von Ensingen zum Eselsbergturm und Schreckstein
DESCRIPTION:Am Ostende des südlichsten der drei Strombergzüge errichtete 
 der Schwäbische Albverein 1925 einen verschalten Holzturm\, den Eselsburg
 turm. Die Aussicht von diesem Turm aus ist beeindruckend: Das Tal der Schm
 ie\, im Südwesten die 180°-Schlinge der Enz bei Roßwag. Westlich kann m
 an den nördlichen Abfall des Schwarzwaldes erkennen\, schließlich die Ke
 uperwälder von Leonberg über den Murrhardter Wald bis zu den Löwenstein
 er Bergen. \nUnsere Wanderung nähert sich dem Eselsburgturm von Ensingen 
 aus und führt durch malerische Obstwiesen und lauschige Wälder vorbei am
  Stockwaldbrunnen und Schreckstein.\n\nAnsprechpartner Inge und Franz Mart
 e
END:VEVENT
BEGIN:VTIMEZONE
TZID:Europe/Berlin
X-LIC-LOCATION:Europe/Berlin
BEGIN:DAYLIGHT
DTSTART:20260329T030000
TZOFFSETFROM:+0100
TZOFFSETTO:+0200
TZNAME:CEST
END:DAYLIGHT
END:VTIMEZONE
END:VCALENDAR