BEGIN:VCALENDAR
VERSION:2.0
PRODID:-//wp-events-plugin.com//5.99912//EN
TZID:Europe/Berlin
X-WR-TIMEZONE:Europe/Berlin
BEGIN:VEVENT
UID:0-244@obertuerkheim-uhlbach.albverein.eu
DTSTART;TZID=Europe/Berlin:20260426T090000
DTEND;TZID=Europe/Berlin:20260426T180000
DTSTAMP:20260401T103935Z
URL:https://obertuerkheim-uhlbach.albverein.eu/events/von-markgroeningen-n
 ach-bietigheim-bissingen/
SUMMARY:Von Markgröningen nach Bietigheim-Bissingen
DESCRIPTION:Nach einem Rundgang durch das malerische Städchen Markgröning
 en wandern wir durch die Muschelkalklandschaft von Leudelsbach- und Enztal
 . Dort finden sich unteschiedlichste Biotope: Orchideenstandorte auf dem K
 alk-Magerrasen\, entlang der Bachläufe Auenwälder mit Erle\, Esche und W
 eide\, mancherorts sind auch Türkenbundlilie und Seidelbast zu finden. Da
 rüber hinaus entdeckt man die Spuren alter Kulturlandschaft in Form von S
 chafweiden und ehemaligen Weinbergen. Grund genug\, dieses besondere Gebie
 t zu erwandern. Die Einkehr erfolgt relativ spät (um den Stoßzeiten in d
 iesem beliebten Lokal zu entgehen) gegen 13:30 Uhr in Bissingen\, von Biet
 igheim aus geht es wieder zurück nach Uhlbach.\n\nTreffpunkt: Uhlbach\, B
 ushaltestelle 9:30 Uhr\nAnfahrt: ab Uhlbach 9:37 Uhr mit Bus 62\, ab Obert
 ürkheim 9:52 Uhr mit S1 ab Hauptbahnhof mit S4\, ab Ludwigsburg mit Bus 5
 33 Fahrkarte: Einzelfahschein 4\,15 €\; wer frühzeitig kommt\, kann sic
 h an einem Gruppenfahrschein beteiligen\nRückfahrt: mit S5 ab Bietigheim\
 nEinkehr: gegen 13:30 Uhr in der Rommelmühle in Bissingen\nHinweis: Es wi
 rd um Anmeldung gebeten bis 23.04.\nAnsprechpartnerin: Christel Linkohr\, 
 0170 3361794 oder Linkohr-stuttgart@t-online.de
END:VEVENT
BEGIN:VTIMEZONE
TZID:Europe/Berlin
X-LIC-LOCATION:Europe/Berlin
BEGIN:DAYLIGHT
DTSTART:20260329T030000
TZOFFSETFROM:+0100
TZOFFSETTO:+0200
TZNAME:CEST
END:DAYLIGHT
END:VTIMEZONE
END:VCALENDAR