BEGIN:VCALENDAR
VERSION:2.0
PRODID:-//wp-events-plugin.com//5.99912//EN
TZID:Europe/Berlin
X-WR-TIMEZONE:Europe/Berlin
BEGIN:VEVENT
UID:0-256@obertuerkheim-uhlbach.albverein.eu
DTSTART;TZID=Europe/Berlin;VALUE=DATE:20260713
DTEND;TZID=Europe/Berlin;VALUE=DATE:20260718
DTSTAMP:20260301T235538Z
URL:https://obertuerkheim-uhlbach.albverein.eu/events/wandertage-im-allgae
 u/
SUMMARY:Wandertage im Allgäu
DESCRIPTION:Ansprechpartner Günter Reusch und Monika Neubrand
END:VEVENT
BEGIN:VTIMEZONE
TZID:Europe/Berlin
X-LIC-LOCATION:Europe/Berlin
BEGIN:DAYLIGHT
DTSTART:20260329T030000
TZOFFSETFROM:+0100
TZOFFSETTO:+0200
TZNAME:CEST
END:DAYLIGHT
END:VTIMEZONE
END:VCALENDAR