BEGIN:VCALENDAR
VERSION:2.0
PRODID:-//wp-events-plugin.com//5.99912//EN
TZID:Europe/Berlin
X-WR-TIMEZONE:Europe/Berlin
BEGIN:VEVENT
UID:0-255@obertuerkheim-uhlbach.albverein.eu
DTSTART;TZID=Europe/Berlin:20260704T090000
DTEND;TZID=Europe/Berlin:20260704T180000
DTSTAMP:20260401T104527Z
URL:https://obertuerkheim-uhlbach.albverein.eu/events/zum-aalbaeumle-auf-d
 er-ostalb/
SUMMARY:Zum Aalbäumle auf der Ostalb
DESCRIPTION:Von Aalen-Unterkochen aus beginnen wir die Wanderung\, die zun
 ächst zum Aalbäumle\, dem Aalener Hausberg\, führt. Der Aussichtsturm h
 ier bietet bei gutem Wetter eine schöne Aussicht auf Aalen selbst\, das W
 elland\, bis hin zum Rosenstein und nach Ellwangen. Weiter geht es zum Vol
 kmarsberg\, der als höchster Punkt Oberkochens das Kochertal überragt. R
 und um den Berg\, der seit 1928 unter Naturschutz steht\, erstreckt sich e
 in weitläufiges\, natürliches Naherholungsgebiet und beliebtes Wandergeb
 iet.\n\nAnsprechpartner Hans Neumayer
END:VEVENT
BEGIN:VTIMEZONE
TZID:Europe/Berlin
X-LIC-LOCATION:Europe/Berlin
BEGIN:DAYLIGHT
DTSTART:20260329T030000
TZOFFSETFROM:+0100
TZOFFSETTO:+0200
TZNAME:CEST
END:DAYLIGHT
END:VTIMEZONE
END:VCALENDAR