BEGIN:VCALENDAR
VERSION:2.0
PRODID:-//wp-events-plugin.com//5.99912//EN
TZID:Europe/Berlin
X-WR-TIMEZONE:Europe/Berlin
BEGIN:VEVENT
UID:0-264@obertuerkheim-uhlbach.albverein.eu
DTSTART;TZID=Europe/Berlin:20260829T140000
DTEND;TZID=Europe/Berlin:20260829T180000
DTSTAMP:20260305T202436Z
URL:https://obertuerkheim-uhlbach.albverein.eu/events/zum-sommerfest-des-o
 bst-und-gartenbauvereins-obertuerkheim-4/
SUMMARY:Zum Sommerfest des Obst- und Gartenbauvereins Obertürkheim
DESCRIPTION:Ansprechpartner Wolf Wölfel
END:VEVENT
BEGIN:VTIMEZONE
TZID:Europe/Berlin
X-LIC-LOCATION:Europe/Berlin
BEGIN:DAYLIGHT
DTSTART:20260329T030000
TZOFFSETFROM:+0100
TZOFFSETTO:+0200
TZNAME:CEST
END:DAYLIGHT
END:VTIMEZONE
END:VCALENDAR